BEGIN:VCALENDAR
VERSION:2.0
PRODID:-//Evangelische Jugend Hochtaunus - ECPv6.10.1.1//NONSGML v1.0//EN
CALSCALE:GREGORIAN
METHOD:PUBLISH
X-ORIGINAL-URL:https://ev-jugend-hg.de
X-WR-CALDESC:Veranstaltungen für Evangelische Jugend Hochtaunus
REFRESH-INTERVAL;VALUE=DURATION:PT1H
X-Robots-Tag:noindex
X-PUBLISHED-TTL:PT1H
BEGIN:VTIMEZONE
TZID:Europe/Berlin
BEGIN:DAYLIGHT
TZOFFSETFROM:+0100
TZOFFSETTO:+0200
TZNAME:CEST
DTSTART:20260329T010000
END:DAYLIGHT
BEGIN:STANDARD
TZOFFSETFROM:+0200
TZOFFSETTO:+0100
TZNAME:CET
DTSTART:20261025T010000
END:STANDARD
END:VTIMEZONE
BEGIN:VEVENT
DTSTART;TZID=Europe/Berlin:20260425T183000
DTEND;TZID=Europe/Berlin:20260425T210000
DTSTAMP:20260421T025839
CREATED:20260126T125729Z
LAST-MODIFIED:20260126T125729Z
UID:3598-1777141800-1777150800@ev-jugend-hg.de
SUMMARY:Mutausbruch - Eventgottesdienst für Jugendliche
DESCRIPTION:Gottesdienst für Jugendliche mit coolen Aktionen\, Krea-Stationen\, Band\, Lichtshow\, Snacks\, Chillout-Area und jeder Menge Spaß! \nAm Samstag\, den 25. April 2026\, geht es abends um 18:30 Uhr in der ev. Auferstehungskirche – Ebertstraße 11 in Oberursel los.\nHinter dem Titel #mutausbruch verbirgt sich ein unkonventionelles Gottesdienstformat mit einer Mischung aus biblischem Impuls\, Gebeten\, Livemusik\, Aktionen\, Kulinarischem\, Meditativem und Chill-Out.\nKurzum: Ein lebendiger Gottesdienst für Jugendliche ab 14 Jahren. \nDie Katholische Fachstelle\, die evangelische Jugend Oberursel und Steinbach mit Ute Gerhold-Roller (ute.gerhold-roller@ekhn.de)\, die katholischen und evangelischen Kirchengemeinden sowie die freien christlichen Gemeinden laden wieder zu diesem gemeinsamen Jugendevent herzlich ein. \nDas Ende ist gegen 21:00 Uhr. Nach den Osterferien gibt es mehr Infos.\nKomm vorbei und mach mit!
URL:https://ev-jugend-hg.de/event/mutausbruch-eventgottesdienst-fuer-jugendliche/
LOCATION:Auferstehungeskirche Oberursel
ATTACH;FMTTYPE=image/jpeg:https://ev-jugend-hg.de/wp-content/uploads/2025/03/20250314_191351-scaled.jpg
END:VEVENT
BEGIN:VEVENT
DTSTART;TZID=Europe/Berlin:20260604T080000
DTEND;TZID=Europe/Berlin:20260607T170000
DTSTAMP:20260421T025839
CREATED:20251202T133251Z
LAST-MODIFIED:20260126T124620Z
UID:3554-1780560000-1780851600@ev-jugend-hg.de
SUMMARY:Jugendkirchentag - Mach laut. Mach bunt. Mach mit!
DESCRIPTION:Was ist der JKT?\nEin Festival von Jugendlichen für Jugendliche! Über 200 Programmpunkte warten auf dich – von deep bis wild\, kreativ bis sportlich. \nÜber 4.000 Menschen kommen zusammen\, um vier Tage \nlang unter dem Motto »Mach laut. Mach bunt. Mach mit!« Glaube\, Freundschaft und Gemeinschaft zu feiern. \nFür wen ist der JKT?\nHauptzielgruppe sind Jugendliche zwischen 13 und 17 Jahren. \nWo kann ich übernachten?\nDu reist mit deiner Evangelischen Jugend Hochtaunus an. Wir übernachten in einer Schule. \nWas kostet die Fahrt?\nAn- und Abreise mit dem Bus samt Dauerticket inklusive Übernachtung und Frühstück  kosten 65 €. \nWo bekomme weitere Infos?\nSteffi Schild\, Dekanatsjugendreferentin \n0177-8453652 oder stephanie.schild@ekhn.de \nAnmeldung: \nhttps://portal-kalender.ekhn.de/V2/sl.php?id=8y92 \n  \nAnmeldeschluss: 26. April 2026
URL:https://ev-jugend-hg.de/event/jugendkirchentag-mach-laut-mach-bunt-mach-mit/
LOCATION:Alsfeld
ATTACH;FMTTYPE=image/webp:https://ev-jugend-hg.de/wp-content/uploads/2024/12/Jugendkirchentag-offizielles-Bildmaterial.webp
END:VEVENT
BEGIN:VEVENT
DTSTART;TZID=Europe/Berlin:20260612T080000
DTEND;TZID=Europe/Berlin:20260614T170000
DTSTAMP:20260421T025839
CREATED:20251125T125519Z
LAST-MODIFIED:20251125T125520Z
UID:3548-1781251200-1781456400@ev-jugend-hg.de
SUMMARY:Reiterwochenende
DESCRIPTION:Reiterwochenende für Kids aus der 5. – 7. Klasse vom 12. – 14. Juni 2026 \nHey\, \nhast du Lust und Zeit\, ein Wochenende mitten in der Natur mit Pferden und netten Menschen zu verbringen? Dann freuen wir uns auf dich! Zwischen Wetterau und Vogelsberg liegt das evangelische Freizeitzentrum mit Pferden in Hungen. In rustikalen und freundlich eingerichteten Holzhäusern werden wir übernachten\, gemeinsam kochen\, Verantwortung für die Pferde übernehmen\, sie versorgen und natürlich ausreiten. Reitkenntnisse brauchst du nicht. Egal\, ob Anfängerin oder fortgeschrittene Reiterinnen\, hier kommt jede*r auf ihre/seine Kosten. In der „reit- und pferdefreien“ Zeit gibt es unterschiedliche Kreativ- und Spielangebote\, Geschichten und Lieder am Lagerfeuer. \nDas Wochenende kostet 140 Euro. Eine Ermäßigung ist jederzeit möglich. Enthalten im Preis sind: Unterkunft\, Verpflegung\, Programm\, Betreuung und Reitstunden. Die Freizeit beginnt in Hungen. Bei der An- und Abreise sind wir gerne behilflich. Anmeldungen und weitere Infos gibt es bei der Gemeindepädagogin Ute Gerhold-Roller\, Mobil: 01577 1263795 – ute.gerhold-roller@ekhn.de. \nDas Wochenende ist eine Veranstaltung der Evangelischen Jugend im Nachbarschaftsraum Oberursel/Steinbach. \nWir freuen uns auf dich! \nUte Gerhold-Roller und das Reiterfreizeit-Team
URL:https://ev-jugend-hg.de/event/reiterwochenende/
ATTACH;FMTTYPE=image/jpeg:https://ev-jugend-hg.de/wp-content/uploads/2025/11/Reiterfreizeit-1.jpeg
END:VEVENT
BEGIN:VEVENT
DTSTART;TZID=Europe/Berlin:20260629T110000
DTEND;TZID=Europe/Berlin:20260629T160000
DTSTAMP:20260421T025839
CREATED:20251202T134239Z
LAST-MODIFIED:20251202T134239Z
UID:3565-1782730800-1782748800@ev-jugend-hg.de
SUMMARY:Teamer*innen-Schulung
DESCRIPTION:Wir freuen uns\, dass du mit uns an Bord bist bei der Arbeit mit Kindern und Jugendlichen. Es macht uns viel Freude\, mit dir zusammen etwas auf die Beine zu stellen. Damit es dir und den Teilnehmenden dabei gut geht\, ist es wichtig\, dass du bestimmte Dinge lernst und Handwerkszeug für deine Arbeit bekommst\, sodass wir uns voller Tatkraft gemeinsam auf den Weg machen können. \nThema: \nSpielpädagogik und Arbeit in Gruppen: u.a. Wie leite ich ein Spiel an? Wie sehen Gruppenstrukturen aus? => 29.6.26\, 11-16 Uhr (Ort noch unklar)
URL:https://ev-jugend-hg.de/event/teamerinnen-schulung-3/
ATTACH;FMTTYPE=image/png:https://ev-jugend-hg.de/wp-content/uploads/2025/02/image.png
END:VEVENT
BEGIN:VEVENT
DTSTART;TZID=Europe/Berlin:20260702T080000
DTEND;TZID=Europe/Berlin:20260710T170000
DTSTAMP:20260421T025839
CREATED:20251110T144147Z
LAST-MODIFIED:20251110T144147Z
UID:3520-1782979200-1783702800@ev-jugend-hg.de
SUMMARY:Prime-Time – Jugendfreizeit
DESCRIPTION:Im Juli 26 geht es wieder in die fränkische Schweiz. Wir sind zunächst im Erlebniscenter Jura Alpin untergebracht\, einer Unterkunft mitten im Hirschbachtal. Dort wohnen wir in kleinen Finnhütten und bekommen in der Herberge Frühstück und Abendessen. Tagsüber sind wir unter-wegs und picknicken in der Natur. Nach der Hälfte der Zeit ziehen wir um in ein großes Selbstversorgerhaus oberhalb von Ebermannstadt. Hier gibt es viel Platz zum Spielen und Chillen. In der großen Selbstversorgerküche können wir selbst kochen und zubereiten\, was uns schmeckt. \nDie fränkische Schweiz liegt in Bayern und ist ein Treffpunkt für alle\, die gemeinsam eine abenteuerreiche besondere Zeit erleben möchten. \nDas heißt: An Felsen klettern\, ins Wasser springen\, Feuerholz sammeln und durch wilde Höhlen kriechen. \nVor allem aber wollen wir bei allen Unternehmungen viel Spaß miteinander haben und viel Lachen. Wer neue Leute kennenlernen möchte\, Spaß am Neuen und Unbekannten hat und Lust auf Abenteuer\, der ist genau richtig! \nGruppengröße  \nCa. 28 Teilnehmer:innen zwischen 15 und 18 Jahren \n  \nKosten & Zahlung:  \n265 €\, inkl. Fahrt\, Unterkunft\, Verpflegung\, Programm und Ausrüstung für das Klettern und für den Klettersteig \nNach Eingang der Anmeldung wird eine Rechnung mit allen Angaben zur Bankverbindung etc. verschickt. \n  \nTermin & Anmeldung  \nTermin: 2.-10. Juli 2026 \nWeitere Infos und Anmeldung bei: Steffi Schild\, Tel: 01778453652\, stephanie.schild@ekhn.de
URL:https://ev-jugend-hg.de/event/prime-time-jugendfreizeit/
ATTACH;FMTTYPE=image/jpeg:https://ev-jugend-hg.de/wp-content/uploads/2024/12/primetime25.jpeg
END:VEVENT
BEGIN:VEVENT
DTSTART;TZID=Europe/Berlin:20260801T080000
DTEND;TZID=Europe/Berlin:20260807T170000
DTSTAMP:20260421T025839
CREATED:20260126T125425Z
LAST-MODIFIED:20260126T125425Z
UID:3595-1785571200-1786122000@ev-jugend-hg.de
SUMMARY:Jugendsegelwoche 2026
DESCRIPTION:Das Leben ist eine Segelreise! \nIn Höhen und Tiefen\, gegen den Wind oder mit dem Strom\, in ruhigen Gewässern fahren\, den Kurs halten\, fest vor Anker liegen\, Schiffbruch erleiden\, den sicheren Hafen erreichen – viele unserer Lebenssituationen beschreiben und illustrieren wir gerne mit Sinnbildern aus der Seefahrt. \n  \nÜber 20 Jahre Steinbacher Segeltradition! Alljährlich\, seit 1993 segelt die Steinbacher Jugend über das Ijsselmeer und die friesische Wattensee. Die Konfirmierten und Konfirmanden der Ev. St. Georgsgemeinde mit ihren Freundinnen\, Freunden aus den Nachbargemeinden im Alter von 13 bis 17 Jahren wagen sich in die ganz eigene Welt des Bordlebens auf traditionellen Plattbodenschiffen. \n  \nInfos und Anmeldung: \nAuf www.st-georgsgemeinde.de könnt ihr euch informieren oder gleich anmelden. Auskunft gibt es bei: \nAndreas Mehner Tel. 0177 9242275 \nGemeindebüro: Tel. 06171 74876\nE-Mail: segeln@st-georgsgemeinde.de \n 
URL:https://ev-jugend-hg.de/event/jugendsegelwoche-2026/
ATTACH;FMTTYPE=image/jpeg:https://ev-jugend-hg.de/wp-content/uploads/2026/01/Bild-Jugendsegeln-Steinbach.jpg
ORGANIZER;CN="St. Georgsgemeinde Steinbach":MAILTO:segeln@st-georgsgemeinde.de
END:VEVENT
BEGIN:VEVENT
DTSTART;TZID=Europe/Berlin:20260801T080000
DTEND;TZID=Europe/Berlin:20260808T170000
DTSTAMP:20260421T025839
CREATED:20251111T082019Z
LAST-MODIFIED:20251111T082019Z
UID:3525-1785571200-1786208400@ev-jugend-hg.de
SUMMARY:Sommerfreizeit für junge Erwachsene
DESCRIPTION:Wie im Himmel – Gipfel\, Berge: Ruhe und Abenteuer gleichermaßen \nIm August 2026 bieten wir wieder eine Woche Urlaub für junge Erwachsene an. Diesmal geht es ins Ötztal in Österreich. \nWir sind in einem gemütlichen Haus in Köfels\, einem urtypischen bäuerlichen Bergdorf\, untergebracht.  Eine überdachte Terrasse und ein Garten bieten Platz zum Entspannen und Grillen oder einfach um die Schönheit der Berge zu genießen. In der Küche werden wir uns gemeinsam köstliche Mahlzeiten zubereiten und der gemütliche Aufenthaltsraum sowie das Außengelände laden zum gemütlichen Zusammensein und Erholen ein und bieten viel Platz zum Spielen\, Lachen und um miteinander ins Gespräch zu kommen und über Gott und die Welt zu diskutieren. \nDas detaillierte Programm richtet sich vor Ort nach den Wetterbedingungen. Naturgenuss pur gibt es bei zahlreichen Touren in die Berge. Wilde Seen\, endlose Fernblicke\, Gipfelkreuze und ein tolles Picknick mit der ganzen Gruppe sind unvergessliche Momente. Außerdem befinden sich in der näheren Umgebung einige Klettersteige\, die erkundet werden wollen. \nWer gerne in der Natur ist\, Freude daran hat\, sich auf Neues einzulassen und neue Leute kennenlernen möchte\, ist genau richtig. Jede:r kann an dieser Freizeit teilnehmen. Kenntnisse im Klettern sind keine Voraussetzung. \nAlles auf einen Blick: \nGruppengröße \n\nCa. 15 Teilnehmer:innen zwischen 18 und 27 Jahren\n\nTermin & Anmeldung \n\nTermin: 1.-8. August 2026\nnähere Infos und Anmeldung bei Steffi Schild\, 01778453652 oder stephanie.schild@ekhn.de\n\nInfoabend \n\nVor der Fahrt findet ein digitaler Infoabend statt\, an dem alles Wichtige besprochen wird. Der Termin wird noch bekanntgegeben werden.\n\n  \n 
URL:https://ev-jugend-hg.de/event/sommerfreizeit-fuer-junge-erwachsene/
ATTACH;FMTTYPE=image/jpeg:https://ev-jugend-hg.de/wp-content/uploads/2025/08/20250730_140645-scaled.jpg
END:VEVENT
BEGIN:VEVENT
DTSTART;TZID=Europe/Berlin:20261012T080000
DTEND;TZID=Europe/Berlin:20261018T170000
DTSTAMP:20260421T025839
CREATED:20251110T144817Z
LAST-MODIFIED:20260126T124918Z
UID:3523-1791792000-1792342800@ev-jugend-hg.de
SUMMARY:Juleica-Grundkurs
DESCRIPTION:In den Herbstferien fahren wir eine Woche mit insgesamt 130 Personen in den Flensunger Hof in Mücke.\nHaupt- und Ehrenamtliche aus 9 Dekanaten laden über 100 Jugendliche ein\, sich Handwerkszeug für ihre pädagogische Arbeit in Gemeinden und Dekanaten anzueignen.\nKonkrete Themen unseres Grundlagen-Kurses sind beispielsweise Gruppenphasen\, Rechtsgrundlagen\, Religionspädagogik\, Entwicklungspsychologie\, Lebenswelten v. Kindern und Jugendlichen und einiges mehr. Mit einem Filmabend\, offenen Spielrunden\, einem Kreativabend\, der Abschlussparty und einer langen Mittagspause wird auch der Fun-Faktor nicht zu kurz kommen. Zudem haben die Jugendlichen die Möglichkeit aus ganz Hessen andere junge Menschen kennenzulernen. \nAnmeldung: \nhttps://forms.office.com/r/sTubw1YdWV \n 
URL:https://ev-jugend-hg.de/event/juleica-grundkurs/
ATTACH;FMTTYPE=image/jpeg:https://ev-jugend-hg.de/wp-content/uploads/2024/12/Juleica-Card-Blanko-1.jpg
END:VEVENT
BEGIN:VEVENT
DTSTART;TZID=Europe/Berlin:20261101T100000
DTEND;TZID=Europe/Berlin:20261101T160000
DTSTAMP:20260421T025839
CREATED:20251111T120911Z
LAST-MODIFIED:20251111T120911Z
UID:3541-1793527200-1793548800@ev-jugend-hg.de
SUMMARY:Vollversammlung der Evangelischen Jugend Hochtaunus
DESCRIPTION:Unsere Vollversammlungen:\nDu möchtest mitbestimmen\, Ideen entwickeln\, Angebote planen\,\nVerstehen\, was los ist und wie Kirche funktioniert\,\nNeue Leute treffen\, Neues erleben\,\ndeine eigene Meinung einbringen?\nAll das kannst du tun\, wenn du zu unserer <strong>Vollversammlung</strong> kommst! Sie findet einmal im Frühjahr und einmal im Herbst statt.</p> \nWir reden\, denken\, lachen\, essen und haben gemeinsam eine gute Zeit.
URL:https://ev-jugend-hg.de/event/vollversammlung-der-evangelischen-jugend-hochtaunus-2/
ATTACH;FMTTYPE=image/jpeg:https://ev-jugend-hg.de/wp-content/uploads/2025/11/Logo-neu-ab-9-25.jpeg
END:VEVENT
END:VCALENDAR